BEGIN:VCALENDAR
VERSION:2.0
PRODID:-//TSA - ECPv5.10.0//NONSGML v1.0//EN
CALSCALE:GREGORIAN
METHOD:PUBLISH
X-WR-CALNAME:TSA
X-ORIGINAL-URL:https://txsigns.org
X-WR-CALDESC:Events for TSA
BEGIN:VTIMEZONE
TZID:America/Chicago
BEGIN:DAYLIGHT
TZOFFSETFROM:-0600
TZOFFSETTO:-0500
TZNAME:CDT
DTSTART:20210314T080000
END:DAYLIGHT
BEGIN:STANDARD
TZOFFSETFROM:-0500
TZOFFSETTO:-0600
TZNAME:CST
DTSTART:20211107T070000
END:STANDARD
END:VTIMEZONE
BEGIN:VEVENT
DTSTART;VALUE=DATE:20210514
DTEND;VALUE=DATE:20210516
DTSTAMP:20260420T064417
CREATED:20210126T141949Z
LAST-MODIFIED:20210209T171025Z
UID:3486-1620950400-1621123199@txsigns.org
SUMMARY:Virtual Exam Review Test Prep 5/14-15/2021
DESCRIPTION:Click HERE for registration form. \nPrepping for the State of Texas Journeyman or Master Test? \nThis class given by Chris Valtierra can give you the knowledge and training to assist you in passing the test. \nEmail tsaoffice@txsigns.org to register or call the office at 979-268-7500.  All Exam Review Classes for 2021 are schedule to be Webinars. \n\n\n	Related
URL:https://txsigns.org/event/exam-review-test-prep-6-25-26-2021/
LOCATION:GoTo Meeting
END:VEVENT
END:VCALENDAR