BEGIN:VCALENDAR
VERSION:2.0
PRODID:-//TSA - ECPv5.10.0//NONSGML v1.0//EN
CALSCALE:GREGORIAN
METHOD:PUBLISH
X-WR-CALNAME:TSA
X-ORIGINAL-URL:https://txsigns.org
X-WR-CALDESC:Events for TSA
BEGIN:VTIMEZONE
TZID:America/Chicago
BEGIN:DAYLIGHT
TZOFFSETFROM:-0600
TZOFFSETTO:-0500
TZNAME:CDT
DTSTART:20210314T080000
END:DAYLIGHT
BEGIN:STANDARD
TZOFFSETFROM:-0500
TZOFFSETTO:-0600
TZNAME:CST
DTSTART:20211107T070000
END:STANDARD
END:VTIMEZONE
BEGIN:VEVENT
DTSTART;TZID=America/Chicago:20211014T180000
DTEND;TZID=America/Chicago:20211014T210000
DTSTAMP:20260425T072113
CREATED:20210721T133245Z
LAST-MODIFIED:20210721T133245Z
UID:3728-1634234400-1634245200@txsigns.org
SUMMARY:GDFWSA Networking Event
DESCRIPTION:Click to access Registration-Form-1.pdf \n\n\n	Related
URL:https://txsigns.org/event/gdfwsa-networking-event-2/
LOCATION:Texas Live!\, 1650 E. Randol Mill Rd.\, Arlington\, TX\, 76011\, United States
END:VEVENT
END:VCALENDAR