BEGIN:VCALENDAR
VERSION:2.0
PRODID:-//TSA - ECPv5.10.0//NONSGML v1.0//EN
CALSCALE:GREGORIAN
METHOD:PUBLISH
X-WR-CALNAME:TSA
X-ORIGINAL-URL:https://txsigns.org
X-WR-CALDESC:Events for TSA
BEGIN:VTIMEZONE
TZID:America/Chicago
BEGIN:DAYLIGHT
TZOFFSETFROM:-0600
TZOFFSETTO:-0500
TZNAME:CDT
DTSTART:20200308T080000
END:DAYLIGHT
BEGIN:STANDARD
TZOFFSETFROM:-0500
TZOFFSETTO:-0600
TZNAME:CST
DTSTART:20201101T070000
END:STANDARD
END:VTIMEZONE
BEGIN:VEVENT
DTSTART;TZID=America/Chicago:20200416T180000
DTEND;TZID=America/Chicago:20200416T210000
DTSTAMP:20260425T071918
CREATED:20200211T154145Z
LAST-MODIFIED:20200326T131830Z
UID:3137-1587060000-1587070800@txsigns.org
SUMMARY:GDFWSA Networking Event - Postponed
DESCRIPTION:Spring Event 2020 final \n\n\n	Related
URL:https://txsigns.org/event/gdfwsa-networking-event/
LOCATION:Texas Live!\, 1650 E. Randol Mill Rd.\, Arlington\, TX\, 76011\, United States
END:VEVENT
END:VCALENDAR