BEGIN:VCALENDAR
VERSION:2.0
PRODID:-//TSA - ECPv5.10.0//NONSGML v1.0//EN
CALSCALE:GREGORIAN
METHOD:PUBLISH
X-WR-CALNAME:TSA
X-ORIGINAL-URL:https://txsigns.org
X-WR-CALDESC:Events for TSA
BEGIN:VTIMEZONE
TZID:America/Chicago
BEGIN:DAYLIGHT
TZOFFSETFROM:-0600
TZOFFSETTO:-0500
TZNAME:CDT
DTSTART:20220313T080000
END:DAYLIGHT
BEGIN:STANDARD
TZOFFSETFROM:-0500
TZOFFSETTO:-0600
TZNAME:CST
DTSTART:20221106T070000
END:STANDARD
END:VTIMEZONE
BEGIN:VEVENT
DTSTART;TZID=America/Chicago:20220224T170000
DTEND;TZID=America/Chicago:20220224T210000
DTSTAMP:20260425T072527
CREATED:20220111T165529Z
LAST-MODIFIED:20220111T165529Z
UID:3797-1645722000-1645736400@txsigns.org
SUMMARY:Greater Houston Sign Association Networking Event
DESCRIPTION:Join us at the Sam Houston Race Park for a fun filled event! \n\n\n	Related
URL:https://txsigns.org/event/greater-houston-sign-association-networking-event/
LOCATION:Sam Houston Race Park\, 7575 N. Sam Houston Pkwy W\, Houston\, TX\, 77064\, United States
END:VEVENT
END:VCALENDAR