BEGIN:VCALENDAR
VERSION:2.0
PRODID:-//TSA - ECPv5.10.0//NONSGML v1.0//EN
CALSCALE:GREGORIAN
METHOD:PUBLISH
X-WR-CALNAME:TSA
X-ORIGINAL-URL:https://txsigns.org
X-WR-CALDESC:Events for TSA
BEGIN:VTIMEZONE
TZID:America/Chicago
BEGIN:DAYLIGHT
TZOFFSETFROM:-0600
TZOFFSETTO:-0500
TZNAME:CDT
DTSTART:20210314T080000
END:DAYLIGHT
BEGIN:STANDARD
TZOFFSETFROM:-0500
TZOFFSETTO:-0600
TZNAME:CST
DTSTART:20211107T070000
END:STANDARD
END:VTIMEZONE
BEGIN:VEVENT
DTSTART;TZID=America/Chicago:20210819T180000
DTEND;TZID=America/Chicago:20210819T210000
DTSTAMP:20260425T004222
CREATED:20210721T131444Z
LAST-MODIFIED:20210721T131502Z
UID:3721-1629396000-1629406800@txsigns.org
SUMMARY:SASA Networking Event
DESCRIPTION:Click to access Registration-form-updated.pdf \n\n\n	Related
URL:https://txsigns.org/event/sasa-networking-event/
LOCATION:Chicken & Pickle\, 5215 UTSA Blvd\, San Antonio\, TX\, 78249\, United States
END:VEVENT
END:VCALENDAR