BEGIN:VCALENDAR
VERSION:2.0
PRODID:-//TSA - ECPv5.10.0//NONSGML v1.0//EN
CALSCALE:GREGORIAN
METHOD:PUBLISH
X-WR-CALNAME:TSA
X-ORIGINAL-URL:https://txsigns.org
X-WR-CALDESC:Events for TSA
BEGIN:VTIMEZONE
TZID:America/Chicago
BEGIN:DAYLIGHT
TZOFFSETFROM:-0600
TZOFFSETTO:-0500
TZNAME:CDT
DTSTART:20200308T080000
END:DAYLIGHT
BEGIN:STANDARD
TZOFFSETFROM:-0500
TZOFFSETTO:-0600
TZNAME:CST
DTSTART:20201101T070000
END:STANDARD
END:VTIMEZONE
BEGIN:VEVENT
DTSTART;VALUE=DATE:20201009
DTEND;VALUE=DATE:20201011
DTSTAMP:20260425T225339
CREATED:20200901T203057Z
LAST-MODIFIED:20200901T203244Z
UID:3405-1602201600-1602374399@txsigns.org
SUMMARY:TSA Exam Review Course
DESCRIPTION:To assist you when testing for Journeyman or Master license in Texas \n  \nContact the TSA office at tsaoffice@txsigns.org to Register for the course. \nMembers $400.00         Non-Members  $ 500.00 \n\n\n	Related
URL:https://txsigns.org/event/tsa-exam-review-course/
LOCATION:Go To Meeting
CATEGORIES:Education
END:VEVENT
END:VCALENDAR