BEGIN:VCALENDAR
VERSION:2.0
PRODID:-//TSA - ECPv5.10.0//NONSGML v1.0//EN
CALSCALE:GREGORIAN
METHOD:PUBLISH
X-WR-CALNAME:TSA
X-ORIGINAL-URL:https://txsigns.org
X-WR-CALDESC:Events for TSA
BEGIN:VTIMEZONE
TZID:America/Chicago
BEGIN:DAYLIGHT
TZOFFSETFROM:-0600
TZOFFSETTO:-0500
TZNAME:CDT
DTSTART:20210314T080000
END:DAYLIGHT
BEGIN:STANDARD
TZOFFSETFROM:-0500
TZOFFSETTO:-0600
TZNAME:CST
DTSTART:20211107T070000
END:STANDARD
END:VTIMEZONE
BEGIN:VEVENT
DTSTART;TZID=America/Chicago:20210303T120000
DTEND;TZID=America/Chicago:20210303T123000
DTSTAMP:20260420T103245
CREATED:20210224T174543Z
LAST-MODIFIED:20210224T174543Z
UID:3588-1614772800-1614774600@txsigns.org
SUMMARY:Video Chat # 15 Working within municipal Codes - SASA
DESCRIPTION:Related
URL:https://txsigns.org/event/video-chat-15-working-within-municipal-codes-sasa/
LOCATION:GoTo Meeting
END:VEVENT
END:VCALENDAR