BEGIN:VCALENDAR
VERSION:2.0
PRODID:-//TSA - ECPv5.10.0//NONSGML v1.0//EN
CALSCALE:GREGORIAN
METHOD:PUBLISH
X-WR-CALNAME:TSA
X-ORIGINAL-URL:https://txsigns.org
X-WR-CALDESC:Events for TSA
BEGIN:VTIMEZONE
TZID:America/Chicago
BEGIN:DAYLIGHT
TZOFFSETFROM:-0600
TZOFFSETTO:-0500
TZNAME:CDT
DTSTART:20200308T080000
END:DAYLIGHT
BEGIN:STANDARD
TZOFFSETFROM:-0500
TZOFFSETTO:-0600
TZNAME:CST
DTSTART:20201101T070000
END:STANDARD
END:VTIMEZONE
BEGIN:VEVENT
DTSTART;TZID=America/Chicago:20200930T120000
DTEND;TZID=America/Chicago:20200930T123000
DTSTAMP:20260422T173621
CREATED:20200901T201027Z
LAST-MODIFIED:20200901T201107Z
UID:3387-1601467200-1601469000@txsigns.org
SUMMARY:Video Chat "Q&A with ISA\,  Signs MFG Day\, Education and TSA/ISA Member Benefits
DESCRIPTION:Email leona@txsigns.org for login informations \n\n\n	Related
URL:https://txsigns.org/event/video-chat-qa-with-isa-signs-mfg-day-education-and-tsa-isa-member-benefits/
LOCATION:Go To Meeting
CATEGORIES:Video Chat
END:VEVENT
END:VCALENDAR