BEGIN:VCALENDAR
VERSION:2.0
PRODID:-//TSA - ECPv5.10.0//NONSGML v1.0//EN
CALSCALE:GREGORIAN
METHOD:PUBLISH
X-WR-CALNAME:TSA
X-ORIGINAL-URL:https://txsigns.org
X-WR-CALDESC:Events for TSA
BEGIN:VTIMEZONE
TZID:America/Chicago
BEGIN:DAYLIGHT
TZOFFSETFROM:-0600
TZOFFSETTO:-0500
TZNAME:CDT
DTSTART:20200308T080000
END:DAYLIGHT
BEGIN:STANDARD
TZOFFSETFROM:-0500
TZOFFSETTO:-0600
TZNAME:CST
DTSTART:20201101T070000
END:STANDARD
END:VTIMEZONE
BEGIN:VEVENT
DTSTART;TZID=America/Chicago:20201028T120000
DTEND;TZID=America/Chicago:20201028T123000
DTSTAMP:20260420T103128
CREATED:20200901T201655Z
LAST-MODIFIED:20200901T201655Z
UID:3391-1603886400-1603888200@txsigns.org
SUMMARY:Video Chat\, TDLR Sunset\, Joey Bennett
DESCRIPTION:Speaker:  Joey Bennett\, TSA Lobbyist \nEmail leona@txsigns.org for login information \n\n\n	Related
URL:https://txsigns.org/event/video-chat-tdlr-sunset-joey-bennett/
LOCATION:Go To Meeting
CATEGORIES:Video Chat
END:VEVENT
END:VCALENDAR